Workbook

Sheet 岗位竞聘报名表
A1: 附件2：
A2: 昆明耀龙供用电有限公司输变电工程事业部项目施工员应聘报名表 | H2: 请打印在一张纸上
F3: 填表日期：
A4: 应聘岗位 | G4: 照片
A5: 姓名 | C5: 出生年月 | D5: 29221 | E5: 性 别
A6: 工号 | C6: 工作时间 | D6: 37438 | E6: 民 族 | F6: 汉（示例）
A7: 政治面貌 | C7: 入党时间 | D7: 37438 | E7: 籍 贯
A8: 专业特长 | E8: 文化程度 | F8: 大学本科
A9: 专业技术资格 | F9: 计算机水平
A10: 技能等级 | F10: 执业资格
A11: 全日制 学历 | B11: 毕业院校 及专业 | C11: XX大学电气工程及其自动化(示例) | F11: 学历、学位 | G11: 大学本科、工学学士（示例）
A12: 最高 学历 | B12: 毕业院校 及专业 | C12: XX大学电气工程及其自动化(示例) | F12: 学历、学位 | G12: 大学本科、工学学士（示例）
A13: 现公司、现部门 | F13: 联系电话
A14: 现职务（岗位） | F14: 电子邮箱
A15: 年度绩效 | B15: 2021年 | D15: 2022年 | F15: 2023年
A16: 主要工作经历
A17: 时间 | C17: 单位 | F17: 岗位
A18: 2002.07-2006.09（示例） | C18: XX公司（示例） | F18: XX部门XX员（示例）
A27: 主要学习经历（从全日制最高学历开始，由低到高依次填写）
A28: 时间 | C28: 毕业院校 | F28: 所学专业
A29: 2002.07-2006.09（示例） | C29: XX大学（示例） | F29: 电气工程及其自动化(示例)
A33: 表彰奖励情况 | C33: 若有，填一项2019年至今个人获得最高荣誉情况即可；若无则填“无”。 | F33: 表彰奖励 授予时间 | G33: 44013
A34: 受处分处罚情况 | C34: 1.XXXX年XX月因XXXX，受到XXXX公司诫勉谈话； 2..... （处分处罚情况要概要写明原因；若无则填写“无”）
A35: 主要 家庭 成员 及 重要 社会 关系 | B35: 称谓 | C35: 姓 名 | D35: 出生年月 | E35: 政治面貌 | F35: 工 作 单 位 及 职 务
B36: 丈夫/妻子
B37: 儿子/女儿
B38: 兄/弟/姐/妹
B39: 父亲
B40: 母亲
B41: 岳父/公公
B42: 岳母/婆婆
A43: 本人声明以上内容全部属实，且无重大遗漏及隐瞒情形，并愿意承担因内容不实或遗漏信息引发的一切后果。
F44: 签名：
F45: 日期：

Sheet 汇总表
A1: 序号 | B1: 应聘岗位 | C1: 是否存在违反任职回避要求的情况 | D1: 姓名 | E1: 性别 | F1: 民族 | G1: 出生年月 | H1: 工作时间 | I1: 文化程度 | J1: 政治面貌 | K1: 专业技术资格 | L1: 专业技能等级 | M1: 现部门(公司) | N1: 现职务（岗位） | O1: 联系电话 | P1: 表彰奖励情况 | Q1: 表彰奖励授予时间 | R1: 全日制学历学位 | S1: 全日制学历院校专业 | T1: 最高学历学位 | U1: 最高学历院校专业 | V1: 2021年度绩效 | W1: 2022年度绩效 | X1: 2023年度绩效 | Y1: 是否具有班站所长工作经历 | Z1: 现职级/职务层级
B2: =岗位竞聘报名表!B4 -> 0 | C2: =岗位竞聘报名表!#REF! -> #REF! | D2: =岗位竞聘报名表!B5 -> 0 | E2: =岗位竞聘报名表!F5 -> 0 | F2: =岗位竞聘报名表!F6 -> 汉（示例） | G2: =岗位竞聘报名表!D5 -> 29221 | H2: =岗位竞聘报名表!D6 -> 37438 | I2: =岗位竞聘报名表!F8 -> 大学本科 | J2: =岗位竞聘报名表!B7 -> 0 | K2: =岗位竞聘报名表!C9 -> 0 | L2: =岗位竞聘报名表!C10 -> 0 | M2: =岗位竞聘报名表!C13 -> 0 | N2: =岗位竞聘报名表!C14 -> 0 | O2: =岗位竞聘报名表!G13 -> 0 | P2: =岗位竞聘报名表!C33 -> 若有，填一项2019年至今个人获得最高荣誉情况即可；若无则填“无”。 | Q2: =岗位竞聘报名表!G33 -> 44013 | R2: =岗位竞聘报名表!G11 -> 大学本科、工学学士（示例） | S2: =岗位竞聘报名表!C11 -> XX大学电气工程及其自动化(示例) | T2: =岗位竞聘报名表!G12 -> 大学本科、工学学士（示例） | U2: =岗位竞聘报名表!C12 -> XX大学电气工程及其自动化(示例) | V2: =岗位竞聘报名表!C15 -> 0 | W2: =岗位竞聘报名表!E15 -> 0 | X2: =岗位竞聘报名表!G15 -> 0 | Y2: =岗位竞聘报名表!G14 -> 0 | Z2: =岗位竞聘报名表!F4 -> 0
